{"text_format":"3","workbook":"xlsx","n_sheets":1,"sheets":["Лист1"],"not_rendered":{"external_links":1},"read":"whole","date_system":"1900"}

{"sheet":"Лист1","index":0,"n_rows":22,"n_cols":10,"rows_kept":22,"merged":[[0,1,0,3]]}
["Школа","МОБУ Гимназия № 3 МР Мелеузовский район",null,null,"Отд./корп",{"$nulls":3},"День","2025-09-24"]
[]
["Прием пищи","Раздел","№ рец.","Блюдо","Выход, г","Цена","Калорийность","Белки","Жиры","Углеводы"]
["Завтрак",{"$f":"[1]Лист1!D125","v":"гор.блюдо"},{"$f":"[1]Лист1!K125","v":322},{"$f":"[1]Лист1!E125","v":"Макаронные изделия отварные"},{"$f":"[1]Лист1!F125","v":155},82.5,{"$f":"[1]Лист1!J125","v":218},{"$f":"[1]Лист1!G125","v":6},{"$f":"[1]Лист1!H125","v":6},{"$f":"[1]Лист1!I125","v":37}]
[null,{"$f":"[1]Лист1!D126","v":"гор.напиток"},{"$f":"[1]Лист1!K126","v":648},{"$f":"[1]Лист1!E126","v":"Кисель витаминизированный"},{"$f":"[1]Лист1!F126","v":200},null,{"$f":"[1]Лист1!J126","v":76},{"$f":"[1]Лист1!G126","v":0},{"$f":"[1]Лист1!H126","v":0},{"$f":"[1]Лист1!I126","v":20}]
[null,{"$f":"[1]Лист1!D127","v":"хлеб"},{"$f":"[1]Лист1!K127","v":114},{"$f":"[1]Лист1!E127","v":"Хлеб пшеничный, обогащенный (для детского питания)"},{"$f":"[1]Лист1!F127","v":50},null,{"$f":"[1]Лист1!J127","v":146},{"$f":"[1]Лист1!G127","v":4},{"$f":"[1]Лист1!H127","v":1},{"$f":"[1]Лист1!I127","v":29}]
[null,{"$f":"[1]Лист1!D128","v":"2 блюдо"},{"$f":"[1]Лист1!K128","v":5},{"$f":"[1]Лист1!E128","v":"Котлеты рыбные с томатным соусом"},{"$f":"[1]Лист1!F128","v":100},null,{"$f":"[1]Лист1!J128","v":121},{"$f":"[1]Лист1!G128","v":8},{"$f":"[1]Лист1!H128","v":13},{"$f":"[1]Лист1!I128","v":10}]
[]
[{"$nulls":4},{"$f":"[1]Лист1!F130","v":505},null,{"$f":"[1]Лист1!J130","v":561},{"$f":"[1]Лист1!G130","v":18},{"$f":"[1]Лист1!H130","v":20},{"$f":"[1]Лист1!I130","v":96}]
[]
["Завтрак 2"]
[]
[]
["Обед",{"$f":"[1]Лист1!D132","v":"1 блюдо"},{"$f":"[1]Лист1!K132","v":63},{"$f":"[1]Лист1!E132","v":"Суп картофельный с бобовыми"},{"$f":"[1]Лист1!F132","v":200},{"v":93.5,"d":"93.50"},{"$f":"[1]Лист1!J132","v":108},{"$f":"[1]Лист1!G132","v":4},{"$f":"[1]Лист1!H132","v":4},{"$f":"[1]Лист1!I132","v":13}]
[null,{"$f":"[1]Лист1!D133","v":"2 блюдо"},{"$f":"[1]Лист1!K133","v":388},{"$f":"[1]Лист1!E133","v":"Тефтели из говядины с рисом и соусом"},{"$f":"[1]Лист1!F133","v":100},null,{"$f":"[1]Лист1!J133","v":126},{"$f":"[1]Лист1!G133","v":8},{"$f":"[1]Лист1!H133","v":6},{"$f":"[1]Лист1!I133","v":10}]
[null,{"$f":"[1]Лист1!D134","v":"гарнир"},{"$f":"[1]Лист1!K134","v":520},{"$f":"[1]Лист1!E134","v":"Картофельное пюре"},{"$f":"[1]Лист1!F134","v":150},null,{"$f":"[1]Лист1!J134","v":199},{"$f":"[1]Лист1!G134","v":3},{"$f":"[1]Лист1!H134","v":5},{"$f":"[1]Лист1!I134","v":20}]
[null,{"$f":"[1]Лист1!D135","v":"сладкое"}]
[null,{"$f":"[1]Лист1!D136","v":"хлеб бел."},{"$f":"[1]Лист1!K136","v":114},{"$f":"[1]Лист1!E136","v":"Хлеб пшеничный, обогащенный (для детского питания)"},{"$f":"[1]Лист1!F136","v":60},null,{"$f":"[1]Лист1!J136","v":146},{"$f":"[1]Лист1!G136","v":4},{"$f":"[1]Лист1!H136","v":1},{"$f":"[1]Лист1!I136","v":29}]
[null,{"$f":"[1]Лист1!D137","v":"хлеб черн."},{"$f":"[1]Лист1!K137","v":0}]
[null,null,{"$f":"[1]Лист1!K138","v":283},{"$f":"[1]Лист1!E138","v":"Чай с сахаром"},{"$f":"[1]Лист1!F138","v":200},null,{"$f":"[1]Лист1!J138","v":40},{"$f":"[1]Лист1!G138","v":0},{"$f":"[1]Лист1!H138","v":0},{"$f":"[1]Лист1!I138","v":10}]
[]
[{"$nulls":4},{"$f":"[1]Лист1!F140","v":710},null,{"$f":"[1]Лист1!J140","v":619},{"$f":"[1]Лист1!G140","v":19},{"$f":"[1]Лист1!H140","v":16},{"$f":"[1]Лист1!I140","v":82}]