{"text_format":"3","workbook":"xlsx","n_sheets":2,"sheets":["1","Лист1"],"not_rendered":{"external_links":2},"read":"whole","date_system":"1900"}

{"sheet":"1","index":0,"n_rows":22,"n_cols":10,"rows_kept":22,"merged":[[0,1,0,3]]}
["с","МОБУ Гимназия №3",null,null,"Отд./корп",{"$nulls":3},"День","2025-09-29"]
[]
["Прием пищи",{"$f":"'[1]4'!B3","v":"Раздел"},{"$f":"'[1]4'!C3","v":"№ рец."},{"$f":"'[1]4'!D3","v":"Блюдо"},{"$f":"'[1]4'!E3","v":"Выход, г"},{"$f":"'[1]4'!F3","v":"Цена"},{"$f":"'[1]4'!G3","v":"Калорийность"},{"$f":"'[1]4'!H3","v":"Белки"},{"$f":"'[1]4'!I3","v":"Жиры"},{"$f":"'[1]4'!J3","v":"Углеводы"}]
["Завтрак",{"$f":"[2]Лист1!D6","v":"гор.блюдо"},{"$f":"[2]Лист1!K6","v":332},{"$f":"[2]Лист1!E6","v":"Макаронные изделия отварные"},{"$f":"[2]Лист1!F6","v":{"v":155,"d":"155.00"}},{"$f":"'[1]4'!F4","v":{"v":82.5,"d":"82.50"}},{"$f":"[2]Лист1!J6","v":{"v":192,"d":"192.00"}},{"$f":"[2]Лист1!G6","v":{"v":6,"d":"6.00"}},{"$f":"[2]Лист1!H6","v":{"v":4,"d":"4.00"}},{"$f":"[2]Лист1!I6","v":{"v":33,"d":"33.00"}}]
[null,{"$f":"[2]Лист1!D7","v":"гор.напиток"},{"$f":"[2]Лист1!K7","v":289},{"$f":"[2]Лист1!E7","v":"Какао с молоком"},{"$f":"[2]Лист1!F7","v":{"v":200,"d":"200.00"}},{"$f":"'[1]4'!F5","v":{"v":0,"d":"0.00"}},{"$f":"[2]Лист1!J7","v":{"v":94,"d":"94.00"}},{"$f":"[2]Лист1!G7","v":{"v":3,"d":"3.00"}},{"$f":"[2]Лист1!H7","v":{"v":3,"d":"3.00"}},{"$f":"[2]Лист1!I7","v":{"v":14,"d":"14.00"}}]
[null,{"$f":"[2]Лист1!D8","v":"хлеб"},{"$f":"[2]Лист1!K8","v":114},{"$f":"[2]Лист1!E8","v":"Хлеб пшеничный, обогащенный (для детского питания)"},{"$f":"[2]Лист1!F8","v":{"v":60,"d":"60.00"}},{"$f":"'[1]4'!F6","v":{"v":0,"d":"0.00"}},{"$f":"[2]Лист1!J8","v":{"v":146,"d":"146.00"}},{"$f":"[2]Лист1!G8","v":{"v":4,"d":"4.00"}},{"$f":"[2]Лист1!H8","v":{"v":1,"d":"1.00"}},{"$f":"[2]Лист1!I8","v":{"v":29,"d":"29.00"}}]
[null,{"$f":"[2]Лист1!D9","v":"2 блюдо"},{"$f":"[2]Лист1!K9","v":4},{"$f":"[2]Лист1!E9","v":"Котлеты куриные с томатным соусом"},{"$f":"[2]Лист1!F9","v":{"v":100,"d":"100.00"}},{"$f":"'[1]4'!F7","v":{"v":0,"d":"0.00"}},{"$f":"[2]Лист1!J9","v":{"v":203,"d":"203.00"}},{"$f":"[2]Лист1!G9","v":{"v":11,"d":"11.00"}},{"$f":"[2]Лист1!H9","v":{"v":14,"d":"14.00"}},{"$f":"[2]Лист1!I9","v":{"v":9,"d":"9.00"}}]
[]
[null,{"$f":"'[1]4'!B9","v":0},null,null,{"$f":"[2]Лист1!F11","v":{"v":515,"d":"515.00"}},null,{"$f":"[2]Лист1!J11","v":{"v":635,"d":"635.00"}},{"$f":"[2]Лист1!G11","v":{"v":24,"d":"24.00"}},{"$f":"[2]Лист1!H11","v":{"v":22,"d":"22.00"}},{"$f":"[2]Лист1!I11","v":{"v":85,"d":"85.00"}}]
["Завтрак 2",{"$f":"'[1]4'!B10","v":0}]
[null,{"$f":"'[1]4'!B11","v":"фрукты"}]
[null,{"$f":"'[1]4'!B12","v":0}]
["Обед",{"$f":"[2]Лист1!D12","v":"закуска"},{"$f":"[2]Лист1!K12","v":140},{"$f":"[2]Лист1!E12","v":"Суп картофельный с лапшой домашней"},{"$f":"[2]Лист1!F12","v":{"v":200,"d":"200.00"}},null,{"$f":"[2]Лист1!J12","v":{"v":124,"d":"124.00"}},{"$f":"[2]Лист1!G12","v":{"v":2,"d":"2.00"}},{"$f":"[2]Лист1!H12","v":{"v":6,"d":"6.00"}},{"$f":"[2]Лист1!I12","v":{"v":11,"d":"11.00"}}]
[null,{"$f":"[2]Лист1!D13","v":"2 блюдо"},{"$f":"[2]Лист1!K13","v":33},{"$f":"[2]Лист1!E13","v":"Гуляш из мяса птицы с соусом"},{"$f":"[2]Лист1!F13","v":{"v":90,"d":"90.00"}},{"$f":"'[1]4'!F14","v":{"v":93.5,"d":"93.50"}},{"$f":"[2]Лист1!J13","v":{"v":232,"d":"232.00"}},{"$f":"[2]Лист1!G13","v":{"v":14,"d":"14.00"}},{"$f":"[2]Лист1!H13","v":{"v":15,"d":"15.00"}},{"$f":"[2]Лист1!I13","v":{"v":5,"d":"5.00"}}]
[null,{"$f":"[2]Лист1!D14","v":"гарнир"},{"$f":"[2]Лист1!K14","v":332},{"$f":"[2]Лист1!E14","v":"Рис припущенный"},{"$f":"[2]Лист1!F14","v":{"v":150,"d":"150.00"}},null,{"$f":"[2]Лист1!J14","v":{"v":219,"d":"219.00"}},{"$f":"[2]Лист1!G14","v":{"v":4,"d":"4.00"}},{"$f":"[2]Лист1!H14","v":{"v":6,"d":"6.00"}},{"$f":"[2]Лист1!I14","v":{"v":37,"d":"37.00"}}]
[null,{"$f":"[2]Лист1!D15","v":"гарнир"}]
[null,{"$f":"[2]Лист1!D16","v":"хлеб бел."},{"$f":"[2]Лист1!K16","v":114},{"$f":"[2]Лист1!E16","v":"Хлеб пшеничный, обогащенный (для детского питания)"},{"$f":"[2]Лист1!F16","v":60},null,{"$f":"[2]Лист1!J16","v":{"v":146,"d":"146.00"}},{"$f":"[2]Лист1!G16","v":{"v":4,"d":"4.00"}},{"$f":"[2]Лист1!H16","v":{"v":1,"d":"1.00"}},{"$f":"[2]Лист1!I16","v":{"v":29,"d":"29.00"}}]
[null,{"$f":"[2]Лист1!D17","v":"хлеб бел."}]
[null,{"$f":"[2]Лист1!D18","v":"хлеб черн."}]
[null,{"$f":"[2]Лист1!D19","v":"сладкое"},{"$f":"[2]Лист1!K19","v":5},{"$f":"[2]Лист1!E19","v":"Компот из свежих плодов"},{"$f":"[2]Лист1!F19","v":{"v":200,"d":"200.00"}},null,{"$f":"[2]Лист1!J19","v":{"v":74,"d":"74.00"}},{"$f":"[2]Лист1!G19","v":{"v":0,"d":"0.00"}},{"$f":"[2]Лист1!H19","v":{"v":0,"d":"0.00"}},{"$f":"[2]Лист1!I19","v":{"v":18,"d":"18.00"}}]
[]
[{"$nulls":4},{"$f":"SUM(E13:E21)","v":{"v":700,"d":"700.00"}},null,{"$f":"[2]Лист1!J21","v":795},{"$f":"[2]Лист1!G21","v":24},{"$f":"[2]Лист1!H21","v":28},{"$f":"[2]Лист1!I21","v":100}]

{"sheet":"Лист1","index":1,"n_rows":24,"n_cols":10,"rows_kept":24,"merged":[[0,1,0,3]]}
["с","МОБУ Гимназия №3",null,null,"Отд./корп",{"$nulls":3},"День","2024-09-03"]
[]
["Прием пищи","Раздел","№ рец.","Блюдо","Выход, г","Цена","Калорийность","Белки","Жиры","Углеводы"]
["Завтрак"]
[null,null,98,"биточки мясные   томатным соусом",{"v":90,"d":"90.00"},null,{"v":199,"d":"199.00"},{"v":10.1,"d":"10.10"},{"v":13,"d":"13.00"},{"v":10.4,"d":"10.40"}]
[{"$nulls":3},"каша гречнеая рассыпчатая",{"v":180,"d":"180.00"},null,{"v":288,"d":"288.00"},{"v":10.4,"d":"10.40"},{"v":6.8,"d":"6.80"},{"v":45.4,"d":"45.40"}]
[null,"гор.напиток",685,"чай с сахаром",{"v":200,"d":"200.00"},null,{"v":40,"d":"40.00"},{"v":0.2,"d":"0.20"},{"v":0,"d":"0.00"},{"v":10,"d":"10.00"}]
[null,"хлеб",3,"хлеб пшеничный обогащенный  ( для дпетского питания)",{"v":30,"d":"30.00"},null,{"v":73,"d":"73.00"},{"v":2,"d":"2.00"},0.03,{"v":14.6,"d":"14.60"}]
[]
[{"$nulls":4},{"$f":"SUM(E5:E9)","v":{"v":500,"d":"500.00"}},{"v":82.2,"d":"82.20"},{"$f":"SUM(G5:G9)","v":{"v":600,"d":"600.00"}},{"v":22.7,"d":"22.70"},{"v":19.830000000000002,"d":"19.83"},{"v":80.39999999999999,"d":"80.40"}]
[]
["Завтрак 2","фрукты"]
[]
[]
[]
["Обед","закуска",16,"овощи порционно В НАРЕЗКЕ",60,null,{"v":3,"d":"3.00"},{"v":0,"d":"0.00"},{"v":0,"d":"0.00"},{"v":0,"d":"0.00"}]
[null,"1 блюдо",63,"суп картофельный с горохом",200,null,{"v":128,"d":"128.00"},{"v":5,"d":"5.00"},{"v":5,"d":"5.00"},{"v":17,"d":"17.00"}]
[null,"2 блюдо",{"$f":"C5","v":98},"тефтели из гоядины с рисом",{"$f":"E5","v":90},null,{"$f":"G5","v":{"v":199,"d":"199.00"}},{"v":8,"d":"8.00"},{"v":13,"d":"13.00"},{"v":10,"d":"10.00"}]
[null,"гарнир",140,"суп картофельный с макаронными издпелиями",150,null,{"v":218,"d":"218.00"},{"v":6,"d":"6.00"},{"v":5,"d":"5.00"},{"v":37,"d":"37.00"}]
[null,"сладкое",{"$f":"C7","v":685},"чай с сахаром",200,null,{"$f":"G7","v":{"v":40,"d":"40.00"}},{"v":0,"d":"0.00"},{"$f":"I7","v":{"v":0,"d":"0.00"}},{"v":10,"d":"10.00"}]
[null,"хлеб бел.",{"$f":"C8","v":3},"хлеб пшеничный обогащенный  ( для дпетского питания)",50,null,{"v":122,"d":"122.00"},{"v":3,"d":"3.00"},{"v":1,"d":"1.00"},{"v":24,"d":"24.00"}]
[null,"хлеб черн."]
[]
[{"$nulls":4},{"$f":"SUM(E16:E23)","v":750},{"v":92.2,"d":"92.20"},{"$f":"SUM(G16:G23)","v":{"v":710,"d":"710.00"}},{"v":22,"d":"22.00"},{"v":24,"d":"24.00"},{"v":98,"d":"98.00"}]