Workbook

Sheet Лист1
A1: Школа | B1: МОБУ Гимназия № 3 МР Мелеузовский район | E1: Отд./корп | I1: День | J1: 45936
A3: Прием пищи | B3: Раздел | C3: № рец. | D3: Блюдо | E3: Выход, г | F3: Цена | G3: Калорийность | H3: Белки | I3: Жиры | J3: Углеводы
A4: Завтрак | B4: горячее блюдо | C4: =[1]Лист1!K91 -> 332 | D4: =[1]Лист1!E91 -> Рис припущенный | E4: =[1]Лист1!F91 -> 180 | G4: =[1]Лист1!J91 -> 219 | H4: =[1]Лист1!G91 -> 4 | I4: =[1]Лист1!H91 -> 6 | J4: 37
B5: гор.напиток | C5: =[1]Лист1!K92 -> 283 | D5: =[1]Лист1!E92 -> компот из свежих плодов | E5: =[1]Лист1!F92 -> 200 | G5: =[1]Лист1!J92 -> 40 | H5: =[1]Лист1!G92 -> 0 | I5: =[1]Лист1!H92 -> 0 | J5: 10
B6: хлеб | C6: =[1]Лист1!K93 -> 114 | D6: =[1]Лист1!E93 -> Хлеб пшеничный, обогащенный (для детского питания) | E6: =[1]Лист1!F93 -> 70 | G6: =[1]Лист1!J93 -> 122 | H6: =[1]Лист1!G93 -> 3 | I6: =[1]Лист1!H93 -> 1 | J6: 24
B7: 2 блюдо | C7: =[1]Лист1!K94 -> 6 | D7: =[1]Лист1!E94 -> Фрикадельки мясные с томатным соусом | E7: =[1]Лист1!F94 -> 100 | G7: =[1]Лист1!J94 -> 199 | H7: =[1]Лист1!G94 -> 10 | I7: =[1]Лист1!H94 -> 13 | J7: 10
E10: 550 | F10: 82.5 | G10: =SUM(G4:G9) -> 580 | H10: =SUM(H4:H9) -> 17 | I10: =SUM(I4:I9) -> 20 | J10: =SUM(J4:J9) -> 81
A11: Завтрак 2
A14: Обед | B14: 1 блюдо | C14: =[1]Лист1!K98 -> 138 | D14: =[1]Лист1!E98 -> Суп картофельный с крупой | E14: =[1]Лист1!F98 -> 200 | F14: 93.5 | G14: =[1]Лист1!J98 -> 110 | H14: =[1]Лист1!G98 -> 2 | I14: =[1]Лист1!H98 -> 2 | J14: =[1]Лист1!I98 -> 15
B15: 2 блюдо | C15: =[1]Лист1!K99 -> 4 | D15: =[1]Лист1!E99 -> Котлеты куриные с томатным соусом | E15: =[1]Лист1!F99 -> 100 | G15: =[1]Лист1!J99 -> 203 | H15: =[1]Лист1!G99 -> 11 | I15: =[1]Лист1!H99 -> 14 | J15: =[1]Лист1!I99 -> 9
B16: гарнир | C16: =[1]Лист1!K100 -> 168 | D16: =[1]Лист1!E100 -> Пюре картофельное | E16: =[1]Лист1!F100 -> 180 | G16: =[1]Лист1!J100 -> 209 | H16: =[1]Лист1!G100 -> 9 | I16: =[1]Лист1!H100 -> 2 | J16: =[1]Лист1!I100 -> 38
B17: гор.напиток | C17: =[1]Лист1!K101 -> 0 | G17: =[1]Лист1!J101 -> 0 | H17: =[1]Лист1!G101 -> 0 | I17: =[1]Лист1!H101 -> 0 | J17: =[1]Лист1!I101 -> 0
B18: хлеб бел. | C18: =[1]Лист1!K102 -> 114 | D18: =[1]Лист1!E102 -> Хлеб пшеничный, обогащенный (для детского питания) | E18: =[1]Лист1!F102 -> 50 | G18: =[1]Лист1!J102 -> 146 | H18: =[1]Лист1!G102 -> 4 | I18: =[1]Лист1!H102 -> 1 | J18: =[1]Лист1!I102 -> 29
B19: хлеб черн.
D20: чай с сахаром | E20: 200 | G20: 40 | H20: =[1]Лист1!G104 -> 0 | I20: =[1]Лист1!H104 -> 0 | J20: 10
E22: 730 | F22: 93.5 | G22: =[1]Лист1!J106 -> 708 | H22: =[1]Лист1!G106 -> 26 | I22: =[1]Лист1!H106 -> 19 | J22: =[1]Лист1!I106 -> 101
