Workbook

Sheet Лист1
A1: Школа | B1: МОБУ Гимназия № 3 МР Мелеузовский район | E1: Отд./корп | I1: День | J1: 45939
A3: Прием пищи | B3: =[1]Лист1!D142 -> гор.блюдо | C3: № рец. | D3: Блюдо | E3: Выход, г | F3: Цена | G3: Калорийность | H3: Белки | I3: Жиры | J3: Углеводы
A4: Завтрак | B4: =[1]Лист1!D142 -> гор.блюдо | C4: =[1]Лист1!K142 -> 297 | D4: =[1]Лист1!E142 -> Макаронные изделия отварные | E4: =[1]Лист1!F142 -> 155 | F4: 82.5 | G4: =[1]Лист1!J142 -> 240 | H4: =[1]Лист1!G142 -> 9 | I4: =[1]Лист1!H142 -> 6 | J4: =[1]Лист1!I142 -> 38
B5: =[1]Лист1!D143 -> гор.напиток | C5: =[1]Лист1!K143 -> 283 | D5: =[1]Лист1!E143 -> Чай с сахаром | E5: =[1]Лист1!F143 -> 200 | G5: =[1]Лист1!J143 -> 40 | H5: =[1]Лист1!G143 -> 0 | I5: =[1]Лист1!H143 -> 0 | J5: =[1]Лист1!I143 -> 9
B6: =[1]Лист1!D144 -> хлеб | C6: =[1]Лист1!K144 -> 114 | D6: =[1]Лист1!E144 -> Хлеб пшеничный, обогащенный (для детского питания) | E6: =[1]Лист1!F144 -> 40 | G6: =[1]Лист1!J144 -> 122 | H6: =[1]Лист1!G144 -> 3 | I6: =[1]Лист1!H144 -> 1 | J6: =[1]Лист1!I144 -> 24
B7: =[1]Лист1!D145 -> закуска | C7: =[1]Лист1!K145 -> 4 | D7: =[1]Лист1!E145 -> Салат из моркови | E7: =[1]Лист1!F145 -> 100 | G7: =[1]Лист1!J145 -> 15 | H7: =[1]Лист1!G145 -> 1 | I7: =[1]Лист1!H145 -> 0 | J7: =[1]Лист1!I145 -> 2
B8: =[1]Лист1!D146 -> 2 блюдо | C8: =[1]Лист1!K146 -> 33 | D8: =[1]Лист1!E146 -> Птица тушенная в соусе с овощами | E8: =[1]Лист1!F146 -> 90 | G8: =[1]Лист1!J146 -> 232 | H8: =[1]Лист1!G146 -> 14 | I8: =[1]Лист1!H146 -> 15 | J8: =[1]Лист1!I146 -> 5
B9: =[1]Лист1!D147 -> итого | E9: =[1]Лист1!F147 -> 585 | G9: =[1]Лист1!J147 -> 649 | H9: =[1]Лист1!G147 -> 27 | I9: =[1]Лист1!H147 -> 22 | J9: =[1]Лист1!I147 -> 78
A11: Завтрак 2
A14: Обед | B14: =[1]Лист1!D149 -> 1 блюдо | C14: =[1]Лист1!K149 -> 124 | D14: =[1]Лист1!E149 -> Щи из свежей капусты с картофелем со сметаной | E14: =[1]Лист1!F149 -> 210 | F14: 93.5 | G14: =[1]Лист1!J149 -> 75 | H14: =[1]Лист1!G149 -> 2 | I14: =[1]Лист1!H149 -> 5 | J14: =[1]Лист1!I149 -> 7
B15: =[1]Лист1!D150 -> 2 блюдо | C15: =[1]Лист1!K150 -> 6 | D15: =[1]Лист1!E150 -> Фрикадельки мясные с томатным соусом | E15: =[1]Лист1!F150 -> 100 | G15: =[1]Лист1!J150 -> 199 | H15: =[1]Лист1!G150 -> 10 | I15: =[1]Лист1!H150 -> 13 | J15: =[1]Лист1!I150 -> 10
B16: =[1]Лист1!D151 -> гарнир | C16: =[1]Лист1!K151 -> 332 | D16: =[1]Лист1!E151 -> Рис припущенный | E16: =[1]Лист1!F151 -> 150 | G16: =[1]Лист1!J151 -> 219 | H16: =[1]Лист1!G151 -> 4 | I16: =[1]Лист1!H151 -> 6 | J16: =[1]Лист1!I151 -> 37
B17: =[1]Лист1!D152 -> сладкое
B18: =[1]Лист1!D153 -> хлеб бел. | C18: =[1]Лист1!K153 -> 114 | D18: =[1]Лист1!E153 -> Хлеб пшеничный, обогащенный (для детского питания) | E18: =[1]Лист1!F153 -> 50 | G18: =[1]Лист1!J153 -> 122 | H18: =[1]Лист1!G153 -> 3 | I18: =[1]Лист1!H153 -> 1 | J18: =[1]Лист1!I153 -> 24
B19: =[1]Лист1!D154 -> хлеб черн.
B20: =[1]Лист1!D155 -> сладкое | C20: =[1]Лист1!K155 -> 278 | D20: =[1]Лист1!E155 -> Компот из свежих плодов | E20: =[1]Лист1!F155 -> 200 | G20: =[1]Лист1!J155 -> 138 | H20: =[1]Лист1!G155 -> 0 | I20: =[1]Лист1!H155 -> 0 | J20: =[1]Лист1!I155 -> 36
E22: =[1]Лист1!F157 -> 710 | G22: =[1]Лист1!J157 -> 753 | H22: =[1]Лист1!G157 -> 19 | I22: =[1]Лист1!H157 -> 25 | J22: =[1]Лист1!I157 -> 114
