{"text_format":"3","workbook":"xlsx","n_sheets":2,"sheets":["1","Лист1"],"not_rendered":{"external_links":2},"read":"whole","date_system":"1900"}

{"sheet":"1","index":0,"n_rows":22,"n_cols":10,"rows_kept":22,"merged":[[0,1,0,3]]}
["с","МОБУ Гимназия №3",null,null,"Отд./корп",{"$nulls":3},"День","2025-10-21"]
[]
["Прием пищи",{"$f":"'[1]4'!B3","v":"Раздел"},{"$f":"'[1]4'!C3","v":"№ рец."},{"$f":"'[1]4'!D3","v":"Блюдо"},{"$f":"'[1]4'!E3","v":"Выход, г"},{"$f":"'[1]4'!F3","v":"Цена"},{"$f":"'[1]4'!G3","v":"Калорийность"},{"$f":"'[1]4'!H3","v":"Белки"},{"$f":"'[1]4'!I3","v":"Жиры"},{"$f":"'[1]4'!J3","v":"Углеводы"}]
["Завтрак","гор.блюдо",11,"Жаркое по-домашнему",{"v":180,"d":"180.00"},{"$f":"'[1]4'!F4","v":{"v":82.5,"d":"82.50"}},{"v":219,"d":"219.00"},{"v":4,"d":"4.00"},{"v":6,"d":"6.00"},{"$f":"[2]Лист1!I74","v":{"v":10,"d":"10.00"}}]
[null,"гор.напиток",289,"Какао с молоком",{"v":200,"d":"200.00"},null,{"v":40,"d":"40.00"},{"v":0,"d":"0.00"},{"v":0,"d":"0.00"},{"$f":"[2]Лист1!I75","v":{"v":19,"d":"19.00"}}]
[null,"хлеб",114,"Хлеб пшеничный, обогащенный (для детского питания)",{"v":70,"d":"70.00"},null,{"v":122,"d":"122.00"},{"v":3,"d":"3.00"},{"v":1,"d":"1.00"},{"$f":"[2]Лист1!I76","v":{"v":24,"d":"24.00"}}]
[null,"закуска",17,"Салат из свеклы отварной",{"v":100,"d":"100.00"},null,{"v":199,"d":"199.00"},{"v":10,"d":"10.00"},{"v":13,"d":"13.00"},{"$f":"[2]Лист1!I77","v":{"v":10,"d":"10.00"}}]
[{"$nulls":9},{"$f":"[2]Лист1!I78","v":{"v":0,"d":"0.00"}}]
[null,{"$f":"[2]Лист1!D79","v":"итого"},{"$f":"[2]Лист1!K45","v":0},{"$f":"[2]Лист1!E79","v":0},{"v":550,"d":"550.00"},null,{"v":580,"d":"580.00"},{"v":17,"d":"17.00"},{"v":20,"d":"20.00"},{"$f":"[2]Лист1!I79","v":{"v":63,"d":"63.00"}}]
["Завтрак 2",{"$f":"'[1]4'!B10","v":0}]
[null,{"$f":"'[1]4'!B11","v":"фрукты"}]
[null,{"$f":"'[1]4'!B12","v":0}]
["Обед","закуска"]
[null,"1 блюдо",132,"Рассольник \"Ленинградский\"",{"v":210,"d":"210.00"},{"$f":"'[1]4'!F14","v":{"v":93.5,"d":"93.50"}},{"v":112,"d":"112.00"},{"v":2,"d":"2.00"},{"v":5,"d":"5.00"},{"v":14,"d":"14.00"}]
[null,"2 блюдо",33,"Гуляш из мяса птицы с соусом",{"v":90,"d":"90.00"},null,{"v":232,"d":"232.00"},{"v":14,"d":"14.00"},{"v":15,"d":"15.00"},{"v":5,"d":"5.00"}]
[null,"гарнир",197,"Каша гречневая рассыпчатая",{"v":155,"d":"155.00"},null,{"v":240,"d":"240.00"},{"v":9,"d":"9.00"},{"v":6,"d":"6.00"},{"v":38,"d":"38.00"}]
[null,"сладкое",278,"Компот из смеси сухофруктов",200,null,{"v":138,"d":"138.00"},{"v":0,"d":"0.00"},{"v":0,"d":"0.00"},{"v":32,"d":"32.00"}]
[null,"хлеб бел.",114,"Хлеб пшеничный, обогащенный (для детского питания)",{"v":60,"d":"60.00"},null,{"v":146,"d":"146.00"},{"v":4,"d":"4.00"},{"v":1,"d":"1.00"},{"v":29,"d":"29.00"}]
[null,"хлеб черн."]
[]
[]
[null,{"$f":"[2]Лист1!D89","v":"итого"},null,{"$f":"[2]Лист1!E89","v":0},{"v":715,"d":"715.00"},null,868,29,27,118]

{"sheet":"Лист1","index":1,"n_rows":24,"n_cols":10,"rows_kept":24,"merged":[[0,1,0,3]]}
["с","МОБУ Гимназия №3",null,null,"Отд./корп",{"$nulls":3},"День","2024-09-03"]
[]
["Прием пищи","Раздел","№ рец.","Блюдо","Выход, г","Цена","Калорийность","Белки","Жиры","Углеводы"]
["Завтрак"]
[null,null,98,"биточки мясные   томатным соусом",{"v":90,"d":"90.00"},null,{"v":199,"d":"199.00"},{"v":10.1,"d":"10.10"},{"v":13,"d":"13.00"},{"v":10.4,"d":"10.40"}]
[{"$nulls":3},"каша гречнеая рассыпчатая",{"v":180,"d":"180.00"},null,{"v":288,"d":"288.00"},{"v":10.4,"d":"10.40"},{"v":6.8,"d":"6.80"},{"v":45.4,"d":"45.40"}]
[null,"гор.напиток",685,"чай с сахаром",{"v":200,"d":"200.00"},null,{"v":40,"d":"40.00"},{"v":0.2,"d":"0.20"},{"v":0,"d":"0.00"},{"v":10,"d":"10.00"}]
[null,"хлеб",3,"хлеб пшеничный обогащенный  ( для дпетского питания)",{"v":30,"d":"30.00"},null,{"v":73,"d":"73.00"},{"v":2,"d":"2.00"},0.03,{"v":14.6,"d":"14.60"}]
[]
[{"$nulls":4},{"$f":"SUM(E5:E9)","v":{"v":500,"d":"500.00"}},{"v":82.2,"d":"82.20"},{"$f":"SUM(G5:G9)","v":{"v":600,"d":"600.00"}},{"$f":"SUM(H5:H9)","v":{"v":22.7,"d":"22.70"}},{"$f":"SUM(I5:I9)","v":{"v":19.830000000000002,"d":"19.83"}},{"$f":"SUM(J5:J9)","v":{"v":80.39999999999999,"d":"80.40"}}]
[]
["Завтрак 2","фрукты"]
[]
[]
[]
["Обед","закуска",16,"овощи порционно В НАРЕЗКЕ",60,null,{"v":3,"d":"3.00"},{"v":0,"d":"0.00"},{"v":0,"d":"0.00"},{"v":0,"d":"0.00"}]
[null,"1 блюдо",63,"суп картофельный с горохом",200,null,{"v":128,"d":"128.00"},{"v":5,"d":"5.00"},{"v":5,"d":"5.00"},{"v":17,"d":"17.00"}]
[null,"2 блюдо",{"$f":"C5","v":98},"тефтели из гоядины с рисом",{"$f":"E5","v":90},null,{"$f":"G5","v":{"v":199,"d":"199.00"}},{"v":8,"d":"8.00"},{"v":13,"d":"13.00"},{"v":10,"d":"10.00"}]
[null,"гарнир",140,"суп картофельный с макаронными издпелиями",150,null,{"v":218,"d":"218.00"},{"v":6,"d":"6.00"},{"v":5,"d":"5.00"},{"v":37,"d":"37.00"}]
[null,"сладкое",{"$f":"C7","v":685},{"$f":"D7","v":"чай с сахаром"},{"$f":"E7","v":200},null,{"$f":"G7","v":{"v":40,"d":"40.00"}},{"v":0,"d":"0.00"},{"$f":"I7","v":{"v":0,"d":"0.00"}},{"$f":"J7","v":{"v":10,"d":"10.00"}}]
[null,"хлеб бел.",{"$f":"C8","v":3},{"$f":"D8","v":"хлеб пшеничный обогащенный  ( для дпетского питания)"},50,null,{"v":122,"d":"122.00"},{"v":3,"d":"3.00"},{"v":1,"d":"1.00"},{"v":24,"d":"24.00"}]
[null,"хлеб черн."]
[]
[{"$nulls":4},{"$f":"SUM(E16:E23)","v":750},{"v":92.2,"d":"92.20"},{"$f":"SUM(G16:G23)","v":{"v":710,"d":"710.00"}},{"$f":"SUM(H16:H23)","v":{"v":22,"d":"22.00"}},{"$f":"SUM(I16:I23)","v":{"v":24,"d":"24.00"}},{"$f":"SUM(J16:J23)","v":{"v":98,"d":"98.00"}}]