Workbook

Sheet 1
A1: с | B1: МОБУ Гимназия №3 | E1: Отд./корп | I1: День | J1: 45968
A3: Прием пищи | B3: ='[1]4'!B3 -> Раздел | C3: ='[1]4'!C3 -> № рец. | D3: ='[1]4'!D3 -> Блюдо | E3: ='[1]4'!E3 -> Выход, г | F3: ='[1]4'!F3 -> Цена | G3: ='[1]4'!G3 -> Калорийность | H3: ='[1]4'!H3 -> Белки | I3: ='[1]4'!I3 -> Жиры | J3: ='[1]4'!J3 -> Углеводы
A4: Завтрак | B4: =[2]Лист1!D159 -> гор.блюдо | C4: =[2]Лист1!K159 -> 311 | D4: =[2]Лист1!E159 -> Каша пшенная молочная | E4: =[2]Лист1!F159 -> 205 | F4: ='[1]4'!F4 -> 82.5 | G4: =[2]Лист1!J159 -> 193 | H4: =[2]Лист1!G159 -> 5 | I4: =[2]Лист1!H159 -> 5 | J4: =[2]Лист1!I159 -> 24
B5: =[2]Лист1!D160 -> гор.напиток | C5: =[2]Лист1!K160 -> 0 | D5: =[2]Лист1!E160 -> Кофейный напиток на молоке | E5: =[2]Лист1!F160 -> 200 | G5: =[2]Лист1!J160 -> 109 | H5: =[2]Лист1!G160 -> 3 | I5: =[2]Лист1!H160 -> 3 | J5: =[2]Лист1!I160 -> 19
B6: =[2]Лист1!D161 -> хлеб | C6: =[2]Лист1!K161 -> 114 | D6: =[2]Лист1!E161 -> Хлеб пшеничный, обогащенный (для детского питания) | E6: =[2]Лист1!F161 -> 50 | G6: =[2]Лист1!J161 -> 122 | H6: =[2]Лист1!G161 -> 3 | I6: =[2]Лист1!H161 -> 1 | J6: =[2]Лист1!I161 -> 24
B7: =[2]Лист1!D162 -> 0 | C7: =[2]Лист1!K162 -> 0 | D7: =[2]Лист1!E162 -> Фрукты свежие (яблоко) | E7: =[2]Лист1!F162 -> 100 | G7: =[2]Лист1!J162 -> 67 | H7: =[2]Лист1!G162 -> 0 | I7: =[2]Лист1!H162 -> 0 | J7: =[2]Лист1!I162 -> 10
B8: =[2]Лист1!D163 -> 0 | C8: =[2]Лист1!K163 -> 0 | D8: =[2]Лист1!E163 -> 0 | E8: =[2]Лист1!F163 -> 0 | G8: =[2]Лист1!J163 -> 0 | H8: =[2]Лист1!G163 -> 0 | I8: =[2]Лист1!H163 -> 0 | J8: =[2]Лист1!I163 -> 0
B9: =[3]Лист1!D79 -> итого | C9: =[2]Лист1!K164 -> 0 | D9: =[2]Лист1!E164 -> 0 | E9: =[2]Лист1!F164 -> 555 | G9: =[2]Лист1!J164 -> 491 | H9: =[2]Лист1!G164 -> 11 | I9: =[2]Лист1!H164 -> 9 | J9: =[2]Лист1!I164 -> 77
A10: Завтрак 2 | B10: ='[1]4'!B10 -> 0
B11: ='[1]4'!B11 -> фрукты
B12: ='[1]4'!B12 -> 0
A13: Обед | B13: =[2]Лист1!D165 -> закуска
B14: =[2]Лист1!D166 -> 1 блюдо | C14: =[2]Лист1!K166 -> 110 | D14: =[2]Лист1!E166 -> Борщ с капустой и картофелем со сметаной | E14: =[2]Лист1!F149 -> 210 | F14: ='[1]4'!F14 -> 93.5 | G14: =[2]Лист1!J166 -> 116 | H14: =[2]Лист1!G166 -> 2 | I14: =[2]Лист1!H166 -> 6 | J14: =[2]Лист1!I166 -> 11
B15: =[2]Лист1!D167 -> 2 блюдо | C15: =[2]Лист1!K167 -> 98 | D15: =[2]Лист1!E167 -> Биточки мясные с томатным соусом | E15: =[2]Лист1!F150 -> 100 | G15: =[2]Лист1!J167 -> 199 | H15: =[2]Лист1!G167 -> 10 | I15: =[2]Лист1!H167 -> 13 | J15: =[2]Лист1!I167 -> 10
B16: =[2]Лист1!D168 -> гарнир | C16: =[2]Лист1!K168 -> 322 | D16: =[2]Лист1!E168 -> Макаронные изделия отварные | E16: =[2]Лист1!F151 -> 150 | G16: =[2]Лист1!J168 -> 218 | H16: =[2]Лист1!G168 -> 6 | I16: =[2]Лист1!H168 -> 6 | J16: =[2]Лист1!I168 -> 37
B17: =[2]Лист1!D169 -> сладкое | C17: =[2]Лист1!K169 -> 0 | D17: =[2]Лист1!E169 -> 0 | E17: =[2]Лист1!F152 -> 0 | G17: =[2]Лист1!J169 -> 0 | H17: =[2]Лист1!G169 -> 0 | I17: =[2]Лист1!H169 -> 0 | J17: =[2]Лист1!I169 -> 0
B18: =[2]Лист1!D170 -> хлеб бел. | C18: =[2]Лист1!K170 -> 114 | D18: =[2]Лист1!E170 -> Хлеб пшеничный, обогащенный (для детского питания) | E18: =[2]Лист1!F153 -> 50 | G18: =[2]Лист1!J170 -> 122 | H18: =[2]Лист1!G170 -> 3 | I18: =[2]Лист1!H170 -> 1 | J18: =[2]Лист1!I170 -> 24
B19: =[2]Лист1!D171 -> хлеб черн. | C19: =[2]Лист1!K171 -> 0 | D19: =[2]Лист1!E171 -> 0 | E19: =[2]Лист1!F154 -> 0 | G19: =[2]Лист1!J171 -> 0 | H19: =[2]Лист1!G171 -> 0 | I19: =[2]Лист1!H171 -> 0 | J19: =[2]Лист1!I171 -> 0
B20: =[2]Лист1!D172 -> 0 | C20: =[2]Лист1!K172 -> 0 | D20: =[2]Лист1!E172 -> 0 | E20: =[2]Лист1!F155 -> 200 | G20: =[2]Лист1!J172 -> 0 | H20: =[2]Лист1!G172 -> 0 | I20: =[2]Лист1!H172 -> 0 | J20: =[2]Лист1!I172 -> 0
B21: =[2]Лист1!D173 -> сладкое | C21: =[2]Лист1!K173 -> 283 | D21: =[2]Лист1!E173 -> Чай с сахаром | E21: =[2]Лист1!F156 -> 0 | G21: =[2]Лист1!J173 -> 40 | H21: =[2]Лист1!G173 -> 0 | I21: =[2]Лист1!H173 -> 0 | J21: =[2]Лист1!I173 -> 9
B22: =[3]Лист1!D89 -> итого | D22: =[2]Лист1!E157 -> 0 | E22: =[2]Лист1!F157 -> 710 | G22: =[2]Лист1!J174 -> 695 | H22: =[2]Лист1!G174 -> 21 | I22: =[2]Лист1!H174 -> 26 | J22: =[2]Лист1!I174 -> 91

Sheet Лист1
A1: с | B1: МОБУ Гимназия №3 | E1: Отд./корп | I1: День | J1: 45538
A3: Прием пищи | B3: Раздел | C3: № рец. | D3: Блюдо | E3: Выход, г | F3: Цена | G3: Калорийность | H3: Белки | I3: Жиры | J3: Углеводы
A4: Завтрак
C5: 98 | D5: биточки мясные томатным соусом | E5: 90 | G5: 199 | H5: 10.1 | I5: 13 | J5: 10.4
D6: каша гречнеая рассыпчатая | E6: 180 | G6: 288 | H6: 10.4 | I6: 6.8 | J6: 45.4
B7: гор.напиток | C7: 685 | D7: чай с сахаром | E7: 200 | G7: 40 | H7: 0.2 | I7: 0 | J7: 10
B8: хлеб | C8: 3 | D8: хлеб пшеничный обогащенный ( для дпетского питания) | E8: 30 | G8: 73 | H8: 2 | I8: 0.03 | J8: 14.6
E10: =SUM(E5:E9) -> 500 | F10: 82.2 | G10: =SUM(G5:G9) -> 600 | H10: =SUM(H5:H9) -> 22.7 | I10: =SUM(I5:I9) -> 19.83 | J10: =SUM(J5:J9) -> 80.4
A12: Завтрак 2 | B12: фрукты
A16: Обед | B16: закуска | C16: 16 | D16: овощи порционно В НАРЕЗКЕ | E16: 60 | G16: 3 | H16: 0 | I16: 0 | J16: 0
B17: 1 блюдо | C17: 63 | D17: суп картофельный с горохом | E17: 200 | G17: 128 | H17: 5 | I17: 5 | J17: 17
B18: 2 блюдо | C18: =C5 -> 98 | D18: тефтели из гоядины с рисом | E18: =E5 -> 90 | G18: =G5 -> 199 | H18: 8 | I18: 13 | J18: 10
B19: гарнир | C19: 140 | D19: суп картофельный с макаронными издпелиями | E19: 150 | G19: 218 | H19: 6 | I19: 5 | J19: 37
B20: сладкое | C20: =C7 -> 685 | D20: =D7 -> чай с сахаром | E20: =E7 -> 200 | G20: =G7 -> 40 | H20: 0 | I20: =I7 -> 0 | J20: =J7 -> 10
B21: хлеб бел. | C21: =C8 -> 3 | D21: =D8 -> хлеб пшеничный обогащенный ( для дпетского питания) | E21: 50 | G21: 122 | H21: 3 | I21: 1 | J21: 24
B22: хлеб черн.
E24: =SUM(E16:E23) -> 750 | F24: 92.2 | G24: =SUM(G16:G23) -> 710 | H24: =SUM(H16:H23) -> 22 | I24: =SUM(I16:I23) -> 24 | J24: =SUM(J16:J23) -> 98
